BEGIN:VCALENDAR
VERSION:2.0
PRODID:-//Plone.org//NONSGML plone.app.event//EN
X-WR-TIMEZONE:Europe/Berlin
BEGIN:VEVENT
SUMMARY:La Conferenza sul clima di Parigi: implicazioni per l'Italia e l'U
 nione Europea 
DTSTART;TZID=Europe/Berlin;VALUE=DATE-TIME:20151119T143000
DTEND;TZID=Europe/Berlin;VALUE=DATE-TIME:20151119T180000
DTSTAMP;VALUE=DATE-TIME:20260423T021359Z
UID:d63bcb09ca4f4427bc21d010502ffc75@www.isprambiente.gov.it
CREATED;VALUE=DATE-TIME:20151110T104228Z
LAST-MODIFIED;VALUE=DATE-TIME:20230120T134044Z
LOCATION:Roma
URL:https://www.isprambiente.gov.it/it/archivio/notizie-e-novita-normative
 /notizie-ispra/2015/novembre/la-conferenza-sul-clima-di-parigi-implicazion
 i-per-litalia-e-lunione-europea
END:VEVENT
BEGIN:VTIMEZONE
TZID:Europe/Berlin
X-LIC-LOCATION:Europe/Berlin
BEGIN:STANDARD
DTSTART;VALUE=DATE-TIME:20151025T020000
TZNAME:CET
TZOFFSETFROM:+0200
TZOFFSETTO:+0100
END:STANDARD
END:VTIMEZONE
END:VCALENDAR
