BEGIN:VCALENDAR
VERSION:2.0
PRODID:-//Plone.org//NONSGML plone.app.event//EN
X-WR-TIMEZONE:Europe/Berlin
BEGIN:VEVENT
SUMMARY:La formazione urbanistica dell'ingegnere e il governo del territor
 io
DTSTART;TZID=Europe/Berlin;VALUE=DATE-TIME:20151126T143000
DTEND;TZID=Europe/Berlin;VALUE=DATE-TIME:20151127T173000
DTSTAMP;VALUE=DATE-TIME:20260423T021348Z
UID:26f61bf7b99b4da795363497ab472c36@www.isprambiente.gov.it
CREATED;VALUE=DATE-TIME:20151112T095423Z
LAST-MODIFIED;VALUE=DATE-TIME:20230120T134044Z
LOCATION:Roma
URL:https://www.isprambiente.gov.it/it/archivio/notizie-e-novita-normative
 /notizie-ispra/2015/novembre/la-formazione-urbanistica-dellingegnere-e-il-
 governo-del-territorio
END:VEVENT
BEGIN:VTIMEZONE
TZID:Europe/Berlin
X-LIC-LOCATION:Europe/Berlin
BEGIN:STANDARD
DTSTART;VALUE=DATE-TIME:20151025T020000
TZNAME:CET
TZOFFSETFROM:+0200
TZOFFSETTO:+0100
END:STANDARD
END:VTIMEZONE
END:VCALENDAR
