BEGIN:VCALENDAR
VERSION:2.0
PRODID:-//Plone.org//NONSGML plone.app.event//EN
X-WR-TIMEZONE:Europe/Berlin
BEGIN:VEVENT
SUMMARY:Nuove sfide per il suolo
DTSTART;TZID=Europe/Berlin;VALUE=DATE-TIME:20151103T091500
DTEND;TZID=Europe/Berlin;VALUE=DATE-TIME:20151203T130000
DTSTAMP;VALUE=DATE-TIME:20260423T021314Z
UID:64ca69a6305b4d23914d0af322ca239c@www.isprambiente.gov.it
CREATED;VALUE=DATE-TIME:20151125T102351Z
LAST-MODIFIED;VALUE=DATE-TIME:20230120T134044Z
LOCATION:Milano
URL:https://www.isprambiente.gov.it/it/archivio/notizie-e-novita-normative
 /notizie-ispra/2015/novembre/nuove-sfide-per-il-suolo
END:VEVENT
BEGIN:VTIMEZONE
TZID:Europe/Berlin
X-LIC-LOCATION:Europe/Berlin
BEGIN:STANDARD
DTSTART;VALUE=DATE-TIME:20151025T020000
TZNAME:CET
TZOFFSETFROM:+0200
TZOFFSETTO:+0100
END:STANDARD
END:VTIMEZONE
END:VCALENDAR
