BEGIN:VCALENDAR
VERSION:2.0
PRODID:-//Plone.org//NONSGML plone.app.event//EN
X-WR-TIMEZONE:Europe/Berlin
BEGIN:VEVENT
SUMMARY:L'efficacia ambientale ed economica di Ecolabel europeo per il tur
 ismo
DTSTART;TZID=Europe/Berlin;VALUE=DATE-TIME:20151103T150000
DTEND;TZID=Europe/Berlin;VALUE=DATE-TIME:20151103T164500
DTSTAMP;VALUE=DATE-TIME:20260423T021410Z
UID:9ea5e014891e4fa794f56343b9a30f98@www.isprambiente.gov.it
CREATED;VALUE=DATE-TIME:20151021T115938Z
LAST-MODIFIED;VALUE=DATE-TIME:20230120T134044Z
LOCATION:Rimini\, Ecomondo
URL:https://www.isprambiente.gov.it/it/archivio/notizie-e-novita-normative
 /notizie-ispra/2015/novembre/valutazione-degli-impatti-ambientali-economic
 i-e-culturali-derivanti-dall2019applicazione-in-trentino-del-marchio-ecola
 bel-europeo-ai-servizi-di-ricettivita-turistica-e-di-campeggio
END:VEVENT
BEGIN:VTIMEZONE
TZID:Europe/Berlin
X-LIC-LOCATION:Europe/Berlin
BEGIN:STANDARD
DTSTART;VALUE=DATE-TIME:20151025T020000
TZNAME:CET
TZOFFSETFROM:+0200
TZOFFSETTO:+0100
END:STANDARD
END:VTIMEZONE
END:VCALENDAR
