BEGIN:VCALENDAR
VERSION:2.0
PRODID:-//Plone.org//NONSGML plone.app.event//EN
X-WR-TIMEZONE:Europe/Berlin
BEGIN:VEVENT
SUMMARY:Verso Parigi: come cogliere la sfida del clima e dell'economia cir
 colare
DTSTART;TZID=Europe/Berlin;VALUE=DATE-TIME:20151125T093000
DTEND;TZID=Europe/Berlin;VALUE=DATE-TIME:20151126T160000
DTSTAMP;VALUE=DATE-TIME:20260423T021349Z
UID:01e3baa9fffa4ea8a4028e685ab4139e@www.isprambiente.gov.it
CREATED;VALUE=DATE-TIME:20151112T153839Z
LAST-MODIFIED;VALUE=DATE-TIME:20230120T134044Z
LOCATION:Roma
URL:https://www.isprambiente.gov.it/it/archivio/notizie-e-novita-normative
 /notizie-ispra/2015/novembre/verso-parigi-come-cogliere-la-sfida-del-clima
 -e-delleconomia-circolare
END:VEVENT
BEGIN:VTIMEZONE
TZID:Europe/Berlin
X-LIC-LOCATION:Europe/Berlin
BEGIN:STANDARD
DTSTART;VALUE=DATE-TIME:20151025T020000
TZNAME:CET
TZOFFSETFROM:+0200
TZOFFSETTO:+0100
END:STANDARD
END:VTIMEZONE
END:VCALENDAR
