BEGIN:VCALENDAR
VERSION:2.0
PRODID:-//Plone.org//NONSGML plone.app.event//EN
X-WR-TIMEZONE:Europe/Berlin
BEGIN:VEVENT
SUMMARY:IV Convegno SIRAM 2015 - Workshop Aquaspace 
DTSTART;TZID=Europe/Berlin;VALUE=DATE-TIME:20151106T090000
DTEND;TZID=Europe/Berlin;VALUE=DATE-TIME:20151107T143000
DTSTAMP;VALUE=DATE-TIME:20260423T061910Z
UID:1b86bee6a5454b2383e804d5569a616b@www.isprambiente.gov.it
CREATED;VALUE=DATE-TIME:20151022T095910Z
LAST-MODIFIED;VALUE=DATE-TIME:20230120T134044Z
LOCATION:Chioggia
URL:https://www.isprambiente.gov.it/it/archivio/notizie-e-novita-normative
 /notizie-ispra/2015/ottobre/iv-convegno-siram-2015-workshop-aquaspace
END:VEVENT
BEGIN:VTIMEZONE
TZID:Europe/Berlin
X-LIC-LOCATION:Europe/Berlin
BEGIN:STANDARD
DTSTART;VALUE=DATE-TIME:20151025T020000
TZNAME:CET
TZOFFSETFROM:+0200
TZOFFSETTO:+0100
END:STANDARD
END:VTIMEZONE
END:VCALENDAR
