BEGIN:VCALENDAR
VERSION:2.0
PRODID:-//Plone.org//NONSGML plone.app.event//EN
X-WR-TIMEZONE:Europe/Berlin
BEGIN:VEVENT
SUMMARY:Giornata di presentazione del Centro per la Microzonazione Sismica
DTSTART;TZID=Europe/Berlin;VALUE=DATE-TIME:20160128T093000
DTEND;TZID=Europe/Berlin;VALUE=DATE-TIME:20160128T160000
DTSTAMP;VALUE=DATE-TIME:20260423T092439Z
UID:49b06c0c22734bf4a6c3c9f6ec6c838c@www.isprambiente.gov.it
CREATED;VALUE=DATE-TIME:20151218T104304Z
LAST-MODIFIED;VALUE=DATE-TIME:20230120T134012Z
LOCATION:Roma
URL:https://www.isprambiente.gov.it/it/archivio/notizie-e-novita-normative
 /notizie-ispra/2016/01/giornata-di-presentazione-del-centro-per-la-microzo
 nazione-sismica
END:VEVENT
BEGIN:VTIMEZONE
TZID:Europe/Berlin
X-LIC-LOCATION:Europe/Berlin
BEGIN:STANDARD
DTSTART;VALUE=DATE-TIME:20151025T020000
TZNAME:CET
TZOFFSETFROM:+0200
TZOFFSETTO:+0100
END:STANDARD
END:VTIMEZONE
END:VCALENDAR
