BEGIN:VCALENDAR
VERSION:2.0
PRODID:-//Plone.org//NONSGML plone.app.event//EN
X-WR-TIMEZONE:Europe/Berlin
BEGIN:VEVENT
SUMMARY:In guerra con le aquile - Geologi e cartografi sui fronti alpini d
 el primo conflitto mondiale
DTSTART;TZID=Europe/Berlin;VALUE=DATE-TIME:20160129T090000
DTEND;TZID=Europe/Berlin;VALUE=DATE-TIME:20160129T133000
DTSTAMP;VALUE=DATE-TIME:20260423T092539Z
UID:fae614b70f7a4e8cb3b65e901755c2c1@www.isprambiente.gov.it
CREATED;VALUE=DATE-TIME:20160120T102004Z
LAST-MODIFIED;VALUE=DATE-TIME:20230120T134012Z
LOCATION:Roma
URL:https://www.isprambiente.gov.it/it/archivio/notizie-e-novita-normative
 /notizie-ispra/2016/01/in-guerra-con-le-aquile-geologi-e-cartografi-sui-fr
 onti-alpini-del-primo-conflitto-mondiale
END:VEVENT
BEGIN:VTIMEZONE
TZID:Europe/Berlin
X-LIC-LOCATION:Europe/Berlin
BEGIN:STANDARD
DTSTART;VALUE=DATE-TIME:20151025T020000
TZNAME:CET
TZOFFSETFROM:+0200
TZOFFSETTO:+0100
END:STANDARD
END:VTIMEZONE
END:VCALENDAR
