BEGIN:VCALENDAR
VERSION:2.0
PRODID:-//Plone.org//NONSGML plone.app.event//EN
X-WR-TIMEZONE:Europe/Berlin
BEGIN:VEVENT
SUMMARY:La disattivazione degli impianti nucleari piemontesi e la gestione
  dei rifiuti radioattivi
DTSTART;TZID=Europe/Berlin;VALUE=DATE-TIME:20160128T093000
DTEND;TZID=Europe/Berlin;VALUE=DATE-TIME:20160128T163000
DTSTAMP;VALUE=DATE-TIME:20260423T093108Z
UID:96256eba758e4f7f856c5162fe6bc952@www.isprambiente.gov.it
CREATED;VALUE=DATE-TIME:20160112T090012Z
LAST-MODIFIED;VALUE=DATE-TIME:20230120T134012Z
LOCATION:Torino
URL:https://www.isprambiente.gov.it/it/archivio/notizie-e-novita-normative
 /notizie-ispra/2016/01/la-disattivazione-degli-impianti-nucleari-piemontes
 i-e-la-gestione-dei-rifiuti-radioattivi
END:VEVENT
BEGIN:VTIMEZONE
TZID:Europe/Berlin
X-LIC-LOCATION:Europe/Berlin
BEGIN:STANDARD
DTSTART;VALUE=DATE-TIME:20151025T020000
TZNAME:CET
TZOFFSETFROM:+0200
TZOFFSETTO:+0100
END:STANDARD
END:VTIMEZONE
END:VCALENDAR
