BEGIN:VCALENDAR
VERSION:2.0
PRODID:-//Plone.org//NONSGML plone.app.event//EN
X-WR-TIMEZONE:Europe/Berlin
BEGIN:VEVENT
SUMMARY:Progetto di sensibilizzazione per la riduzione di rifiuti marini n
 el Tirreno centro settentrionale
DTSTART;TZID=Europe/Berlin;VALUE=DATE-TIME:20160130T110000
DTEND;TZID=Europe/Berlin;VALUE=DATE-TIME:20160130T133000
DTSTAMP;VALUE=DATE-TIME:20260423T062507Z
UID:cf893e96daa84d3c87df4d00d3483710@www.isprambiente.gov.it
CREATED;VALUE=DATE-TIME:20160129T100616Z
LAST-MODIFIED;VALUE=DATE-TIME:20230120T134012Z
LOCATION:Santa Margherita Ligure
URL:https://www.isprambiente.gov.it/it/archivio/notizie-e-novita-normative
 /notizie-ispra/2016/01/progetto-di-sensibilizzazione-per-la-riduzione-di-r
 ifiuti-marini-nel-tirreno-centro-settentrionale
END:VEVENT
BEGIN:VTIMEZONE
TZID:Europe/Berlin
X-LIC-LOCATION:Europe/Berlin
BEGIN:STANDARD
DTSTART;VALUE=DATE-TIME:20151025T020000
TZNAME:CET
TZOFFSETFROM:+0200
TZOFFSETTO:+0100
END:STANDARD
END:VTIMEZONE
END:VCALENDAR
