BEGIN:VCALENDAR
VERSION:2.0
PRODID:-//Plone.org//NONSGML plone.app.event//EN
X-WR-TIMEZONE:Europe/Berlin
BEGIN:VEVENT
SUMMARY:Sottrarre CO2 all’atmosfera sviluppando l’agricoltura e il pat
 rimonio boschivo
DTSTART;TZID=Europe/Berlin;VALUE=DATE-TIME:20160126T100000
DTEND;TZID=Europe/Berlin;VALUE=DATE-TIME:20160126T130000
DTSTAMP;VALUE=DATE-TIME:20260423T071729Z
UID:b593cc0b034646b8bcf06ceb43e7cab3@www.isprambiente.gov.it
CREATED;VALUE=DATE-TIME:20160111T140134Z
LAST-MODIFIED;VALUE=DATE-TIME:20230120T134012Z
LOCATION:Roma
URL:https://www.isprambiente.gov.it/it/archivio/notizie-e-novita-normative
 /notizie-ispra/2016/01/sottrarre-co2-all2019atmosfera-sviluppando-l2019agr
 icoltura-e-il-patrimonio-boschivo
END:VEVENT
BEGIN:VTIMEZONE
TZID:Europe/Berlin
X-LIC-LOCATION:Europe/Berlin
BEGIN:STANDARD
DTSTART;VALUE=DATE-TIME:20151025T020000
TZNAME:CET
TZOFFSETFROM:+0200
TZOFFSETTO:+0100
END:STANDARD
END:VTIMEZONE
END:VCALENDAR
