BEGIN:VCALENDAR
VERSION:2.0
PRODID:-//Plone.org//NONSGML plone.app.event//EN
X-WR-TIMEZONE:Europe/Berlin
BEGIN:VEVENT
SUMMARY:Convegno in memoria del geologo Domenico Lovisato nel centenario d
 ella sua scomparsa
DTSTART;TZID=Europe/Berlin;VALUE=DATE-TIME:20160226T093000
DTEND;TZID=Europe/Berlin;VALUE=DATE-TIME:20160226T170000
DTSTAMP;VALUE=DATE-TIME:20260423T111310Z
UID:a98e138c306f49cf9375c56e86d2ad46@www.isprambiente.gov.it
CREATED;VALUE=DATE-TIME:20160212T131322Z
LAST-MODIFIED;VALUE=DATE-TIME:20230120T134022Z
LOCATION:Iglesias
URL:https://www.isprambiente.gov.it/it/archivio/notizie-e-novita-normative
 /notizie-ispra/2016/02/convegno-in-memoria-del-geologo-domenico-lovisato-n
 el-centenario-della-sua-scomparsa
END:VEVENT
BEGIN:VTIMEZONE
TZID:Europe/Berlin
X-LIC-LOCATION:Europe/Berlin
BEGIN:STANDARD
DTSTART;VALUE=DATE-TIME:20151025T020000
TZNAME:CET
TZOFFSETFROM:+0200
TZOFFSETTO:+0100
END:STANDARD
END:VTIMEZONE
END:VCALENDAR
