BEGIN:VCALENDAR
VERSION:2.0
PRODID:-//Plone.org//NONSGML plone.app.event//EN
X-WR-TIMEZONE:Europe/Berlin
BEGIN:VEVENT
SUMMARY:L’Italia e la sfida del clima e dell’economia circolare. Dopo 
 Parigi e verso gli obiettivi UE al 2030
DTSTART;TZID=Europe/Berlin;VALUE=DATE-TIME:20160216T090000
DTEND;TZID=Europe/Berlin;VALUE=DATE-TIME:20160216T130000
DTSTAMP;VALUE=DATE-TIME:20260423T105342Z
UID:75b3b3fac4674543b5267b49ccb4910a@www.isprambiente.gov.it
CREATED;VALUE=DATE-TIME:20160125T104837Z
LAST-MODIFIED;VALUE=DATE-TIME:20230120T134012Z
LOCATION:Roma\, Senato della Repubblica – Piazza Capranica\, 72
URL:https://www.isprambiente.gov.it/it/archivio/notizie-e-novita-normative
 /notizie-ispra/2016/02/l2019italia-e-la-sfida-del-clima-e-dell2019economia
 -circolare.-dopo-parigi-e-verso-gli-obiettivi-ue-al-2030
END:VEVENT
BEGIN:VTIMEZONE
TZID:Europe/Berlin
X-LIC-LOCATION:Europe/Berlin
BEGIN:STANDARD
DTSTART;VALUE=DATE-TIME:20151025T020000
TZNAME:CET
TZOFFSETFROM:+0200
TZOFFSETTO:+0100
END:STANDARD
END:VTIMEZONE
END:VCALENDAR
