BEGIN:VCALENDAR
VERSION:2.0
PRODID:-//Plone.org//NONSGML plone.app.event//EN
X-WR-TIMEZONE:Europe/Berlin
BEGIN:VEVENT
SUMMARY:La domesticazione di piante e animali: dal Neolitico una rivoluzio
 ne pacifica per una vita più facile. Presentazione del volume “Terra tr
 a le mani”
DTSTART;TZID=Europe/Berlin;VALUE=DATE-TIME:20160218T093000
DTEND;TZID=Europe/Berlin;VALUE=DATE-TIME:20160218T130000
DTSTAMP;VALUE=DATE-TIME:20260424T115617Z
UID:5afe49ff50ab4f1596f3cc4304353633@www.isprambiente.gov.it
CREATED;VALUE=DATE-TIME:20160128T084507Z
LAST-MODIFIED;VALUE=DATE-TIME:20230120T134022Z
LOCATION:Roma\, sede ISPRA\, via V. Brancati\, 48
URL:https://www.isprambiente.gov.it/it/archivio/notizie-e-novita-normative
 /notizie-ispra/2016/02/la-domesticazione-di-piante-e-animali-dal-neolitico
 -una-rivoluzione-pacifica-per-una-vita-piu-facile.-presentazione-del-volum
 e-201cterra-tra-le-mani201d
END:VEVENT
BEGIN:VTIMEZONE
TZID:Europe/Berlin
X-LIC-LOCATION:Europe/Berlin
BEGIN:STANDARD
DTSTART;VALUE=DATE-TIME:20151025T020000
TZNAME:CET
TZOFFSETFROM:+0200
TZOFFSETTO:+0100
END:STANDARD
END:VTIMEZONE
END:VCALENDAR
