BEGIN:VCALENDAR
VERSION:2.0
PRODID:-//Plone.org//NONSGML plone.app.event//EN
X-WR-TIMEZONE:Europe/Berlin
BEGIN:VEVENT
SUMMARY:Le città italiane alla sfida del clima: presentazione del dossier
DTSTART;TZID=Europe/Berlin;VALUE=DATE-TIME:20160209T113000
DTEND;TZID=Europe/Berlin;VALUE=DATE-TIME:20160209T133000
DTSTAMP;VALUE=DATE-TIME:20260423T105138Z
UID:86439bb533c44031ad5231a871bf4cc7@www.isprambiente.gov.it
CREATED;VALUE=DATE-TIME:20160204T104655Z
LAST-MODIFIED;VALUE=DATE-TIME:20230120T134022Z
LOCATION:Roma
URL:https://www.isprambiente.gov.it/it/archivio/notizie-e-novita-normative
 /notizie-ispra/2016/02/le-citta-italiane-alla-sfida-del-clima-presentazion
 e-del-dossier
END:VEVENT
BEGIN:VTIMEZONE
TZID:Europe/Berlin
X-LIC-LOCATION:Europe/Berlin
BEGIN:STANDARD
DTSTART;VALUE=DATE-TIME:20151025T020000
TZNAME:CET
TZOFFSETFROM:+0200
TZOFFSETTO:+0100
END:STANDARD
END:VTIMEZONE
END:VCALENDAR
