BEGIN:VCALENDAR
VERSION:2.0
PRODID:-//Plone.org//NONSGML plone.app.event//EN
X-WR-TIMEZONE:Europe/Berlin
BEGIN:VEVENT
SUMMARY:OrvietoScienza 2016 - Qualcosa di nuovo sotto il sole
DTSTART;TZID=Europe/Berlin;VALUE=DATE-TIME:20160226T090000
DTEND;TZID=Europe/Berlin;VALUE=DATE-TIME:20160226T171500
DTSTAMP;VALUE=DATE-TIME:20260423T105209Z
UID:558e7d4be3f84964b7d0f57400a40639@www.isprambiente.gov.it
CREATED;VALUE=DATE-TIME:20160212T124818Z
DESCRIPTION:Il clima che cambia: cause\, effetti\, possibili rimedi
LAST-MODIFIED;VALUE=DATE-TIME:20230120T134022Z
LOCATION:Orvieto\, Biblioteca Comunale Luigi Fumi
URL:https://www.isprambiente.gov.it/it/archivio/notizie-e-novita-normative
 /notizie-ispra/2016/02/orvietoscienza-2016-qualcosa-di-nuovo-sotto-il-sole
END:VEVENT
BEGIN:VTIMEZONE
TZID:Europe/Berlin
X-LIC-LOCATION:Europe/Berlin
BEGIN:STANDARD
DTSTART;VALUE=DATE-TIME:20151025T020000
TZNAME:CET
TZOFFSETFROM:+0200
TZOFFSETTO:+0100
END:STANDARD
END:VTIMEZONE
END:VCALENDAR
