BEGIN:VCALENDAR
VERSION:2.0
PRODID:-//Plone.org//NONSGML plone.app.event//EN
X-WR-TIMEZONE:Europe/Berlin
BEGIN:VEVENT
SUMMARY:Specie aliene in Italia: emergenze e ri-emergenze per ambiente e s
 alute 
DTSTART;TZID=Europe/Berlin;VALUE=DATE-TIME:20160223T093000
DTEND;TZID=Europe/Berlin;VALUE=DATE-TIME:20160223T180000
DTSTAMP;VALUE=DATE-TIME:20260421T064554Z
UID:899320eba3e74276ba0c95a50461afcf@www.isprambiente.gov.it
CREATED;VALUE=DATE-TIME:20160209T085415Z
LAST-MODIFIED;VALUE=DATE-TIME:20230120T134022Z
LOCATION:Roma
URL:https://www.isprambiente.gov.it/it/archivio/notizie-e-novita-normative
 /notizie-ispra/2016/02/specie-aliene-in-italia-emergenze-e-ri-emergenze-pe
 r-ambiente-e-salute-1
END:VEVENT
BEGIN:VTIMEZONE
TZID:Europe/Berlin
X-LIC-LOCATION:Europe/Berlin
BEGIN:STANDARD
DTSTART;VALUE=DATE-TIME:20151025T020000
TZNAME:CET
TZOFFSETFROM:+0200
TZOFFSETTO:+0100
END:STANDARD
END:VTIMEZONE
END:VCALENDAR
