BEGIN:VCALENDAR
VERSION:2.0
PRODID:-//Plone.org//NONSGML plone.app.event//EN
X-WR-TIMEZONE:Europe/Berlin
BEGIN:VEVENT
SUMMARY:Inquinamento antropico di acque e suoli in Italia
DTSTART;TZID=Europe/Berlin;VALUE=DATE-TIME:20160321T093000
DTEND;TZID=Europe/Berlin;VALUE=DATE-TIME:20160321T180000
DTSTAMP;VALUE=DATE-TIME:20260423T061210Z
UID:63272c759d454f37b573480ff0f5304f@www.isprambiente.gov.it
CREATED;VALUE=DATE-TIME:20160316T111547Z
LAST-MODIFIED;VALUE=DATE-TIME:20230120T134022Z
LOCATION:Roma
URL:https://www.isprambiente.gov.it/it/archivio/notizie-e-novita-normative
 /notizie-ispra/2016/03/inquinamento-antropico-di-acque-e-suoli-in-italia
END:VEVENT
BEGIN:VTIMEZONE
TZID:Europe/Berlin
X-LIC-LOCATION:Europe/Berlin
BEGIN:STANDARD
DTSTART;VALUE=DATE-TIME:20151025T020000
TZNAME:CET
TZOFFSETFROM:+0200
TZOFFSETTO:+0100
END:STANDARD
END:VTIMEZONE
END:VCALENDAR
