BEGIN:VCALENDAR
VERSION:2.0
PRODID:-//Plone.org//NONSGML plone.app.event//EN
X-WR-TIMEZONE:Europe/Berlin
BEGIN:VEVENT
SUMMARY:L'accordo quadro CNR-ISPRA: giornata di riflessione sul mare
DTSTART;TZID=Europe/Berlin;VALUE=DATE-TIME:20160323T093000
DTEND;TZID=Europe/Berlin;VALUE=DATE-TIME:20160323T170000
DTSTAMP;VALUE=DATE-TIME:20260423T062336Z
UID:790c6337daa2476b8fc00074d469c529@www.isprambiente.gov.it
CREATED;VALUE=DATE-TIME:20160323T095053Z
LAST-MODIFIED;VALUE=DATE-TIME:20230120T134022Z
LOCATION:Roma\, CNR\, Piazzale Aldo Moro
URL:https://www.isprambiente.gov.it/it/archivio/notizie-e-novita-normative
 /notizie-ispra/2016/03/laccordo-quadro-cnr-ispra-giornata-di-riflessione-s
 ul-mare
END:VEVENT
BEGIN:VTIMEZONE
TZID:Europe/Berlin
X-LIC-LOCATION:Europe/Berlin
BEGIN:STANDARD
DTSTART;VALUE=DATE-TIME:20151025T020000
TZNAME:CET
TZOFFSETFROM:+0200
TZOFFSETTO:+0100
END:STANDARD
END:VTIMEZONE
END:VCALENDAR
