BEGIN:VCALENDAR
VERSION:2.0
PRODID:-//Plone.org//NONSGML plone.app.event//EN
X-WR-TIMEZONE:Europe/Berlin
BEGIN:VEVENT
SUMMARY:I cambiamenti climatici e lo sviluppo sostenibile della costa
DTSTART;TZID=Europe/Berlin;VALUE=DATE-TIME:20160426T150000
DTEND;TZID=Europe/Berlin;VALUE=DATE-TIME:20160426T173000
DTSTAMP;VALUE=DATE-TIME:20260423T071013Z
UID:da521b9ac6cc401bbc19180cc20103cb@www.isprambiente.gov.it
CREATED;VALUE=DATE-TIME:20160408T141247Z
LAST-MODIFIED;VALUE=DATE-TIME:20230120T134022Z
LOCATION:Gaeta
URL:https://www.isprambiente.gov.it/it/archivio/notizie-e-novita-normative
 /notizie-ispra/2016/04/i-cambiamenti-climatici-e-lo-sviluppo-sostenibile-d
 ella-costa
END:VEVENT
BEGIN:VTIMEZONE
TZID:Europe/Berlin
X-LIC-LOCATION:Europe/Berlin
BEGIN:DAYLIGHT
DTSTART;VALUE=DATE-TIME:20160327T030000
TZNAME:CEST
TZOFFSETFROM:+0100
TZOFFSETTO:+0200
END:DAYLIGHT
END:VTIMEZONE
END:VCALENDAR
