BEGIN:VCALENDAR
VERSION:2.0
PRODID:-//Plone.org//NONSGML plone.app.event//EN
X-WR-TIMEZONE:Europe/Berlin
BEGIN:VEVENT
SUMMARY:Il cielo incontra: la terra\, l'astronauta Parmitano e i geologi i
 taliani
DTSTART;TZID=Europe/Berlin;VALUE=DATE-TIME:20160407T083000
DTEND;TZID=Europe/Berlin;VALUE=DATE-TIME:20160407T163000
DTSTAMP;VALUE=DATE-TIME:20260423T082531Z
UID:0b4eb4847c4b469888987018cd4cceac@www.isprambiente.gov.it
CREATED;VALUE=DATE-TIME:20160405T103113Z
DESCRIPTION:Per un rilancio della Geologia in Italia come volano di svilup
 po. La Terra vista dallo spazio: possiamo salvare Gaia?
LAST-MODIFIED;VALUE=DATE-TIME:20230120T134022Z
LOCATION:Minori (SA)
URL:https://www.isprambiente.gov.it/it/archivio/notizie-e-novita-normative
 /notizie-ispra/2016/04/il-cielo-incontra-la-terra-lastronauta-parmitano-e-
 i-geologi-italiani
END:VEVENT
BEGIN:VTIMEZONE
TZID:Europe/Berlin
X-LIC-LOCATION:Europe/Berlin
BEGIN:DAYLIGHT
DTSTART;VALUE=DATE-TIME:20160327T030000
TZNAME:CEST
TZOFFSETFROM:+0100
TZOFFSETTO:+0200
END:DAYLIGHT
END:VTIMEZONE
END:VCALENDAR
