BEGIN:VCALENDAR
VERSION:2.0
PRODID:-//Plone.org//NONSGML plone.app.event//EN
X-WR-TIMEZONE:Europe/Berlin
BEGIN:VEVENT
SUMMARY:La salvaguardia e lo sviluppo del mare Mediterraneo
DTSTART;TZID=Europe/Berlin;VALUE=DATE-TIME:20160408T090000
DTEND;TZID=Europe/Berlin;VALUE=DATE-TIME:20160408T130000
DTSTAMP;VALUE=DATE-TIME:20260423T071630Z
UID:11eaa10768ab4e45818b26d0f196dddc@www.isprambiente.gov.it
CREATED;VALUE=DATE-TIME:20160407T112836Z
LAST-MODIFIED;VALUE=DATE-TIME:20230120T134022Z
LOCATION:Area marina protetta del Plemmirio
URL:https://www.isprambiente.gov.it/it/archivio/notizie-e-novita-normative
 /notizie-ispra/2016/04/la-salvaguardia-e-lo-sviluppo-del-mare-mediterraneo
END:VEVENT
BEGIN:VTIMEZONE
TZID:Europe/Berlin
X-LIC-LOCATION:Europe/Berlin
BEGIN:DAYLIGHT
DTSTART;VALUE=DATE-TIME:20160327T030000
TZNAME:CEST
TZOFFSETFROM:+0100
TZOFFSETTO:+0200
END:DAYLIGHT
END:VTIMEZONE
END:VCALENDAR
