BEGIN:VCALENDAR
VERSION:2.0
PRODID:-//Plone.org//NONSGML plone.app.event//EN
X-WR-TIMEZONE:Europe/Berlin
BEGIN:VEVENT
SUMMARY:Sviluppo Sostenibile\, Tutela dell'Ambiente e della Salute Umana
DTSTART;TZID=Europe/Berlin;VALUE=DATE-TIME:20160407T140000
DTEND;TZID=Europe/Berlin;VALUE=DATE-TIME:20160409T130000
DTSTAMP;VALUE=DATE-TIME:20260423T082531Z
UID:1661c17265854f448a13739622a88b1b@www.isprambiente.gov.it
CREATED;VALUE=DATE-TIME:20160408T152315Z
DESCRIPTION:XVI Congresso nazionale CIRIAF
LAST-MODIFIED;VALUE=DATE-TIME:20230120T134022Z
LOCATION:Assisi
URL:https://www.isprambiente.gov.it/it/archivio/notizie-e-novita-normative
 /notizie-ispra/2016/04/sviluppo-sostenibile-tutela-dellambiente-e-della-sa
 lute-umana
END:VEVENT
BEGIN:VTIMEZONE
TZID:Europe/Berlin
X-LIC-LOCATION:Europe/Berlin
BEGIN:DAYLIGHT
DTSTART;VALUE=DATE-TIME:20160327T030000
TZNAME:CEST
TZOFFSETFROM:+0100
TZOFFSETTO:+0200
END:DAYLIGHT
END:VTIMEZONE
END:VCALENDAR
