BEGIN:VCALENDAR
VERSION:2.0
PRODID:-//Plone.org//NONSGML plone.app.event//EN
X-WR-TIMEZONE:Europe/Berlin
BEGIN:VEVENT
SUMMARY:X Congresso Nazionale di Teriologia
DTSTART;TZID=Europe/Berlin;VALUE=DATE-TIME:20160420T090000
DTEND;TZID=Europe/Berlin;VALUE=DATE-TIME:20160423T170000
DTSTAMP;VALUE=DATE-TIME:20260423T070955Z
UID:78beb830d5c14bcd9b29bd79270bec9c@www.isprambiente.gov.it
CREATED;VALUE=DATE-TIME:20160414T095222Z
LAST-MODIFIED;VALUE=DATE-TIME:20230120T134022Z
LOCATION:Acquapendente (VT)
URL:https://www.isprambiente.gov.it/it/archivio/notizie-e-novita-normative
 /notizie-ispra/2016/04/x-congresso-nazionale-di-teriologia
END:VEVENT
BEGIN:VTIMEZONE
TZID:Europe/Berlin
X-LIC-LOCATION:Europe/Berlin
BEGIN:DAYLIGHT
DTSTART;VALUE=DATE-TIME:20160327T030000
TZNAME:CEST
TZOFFSETFROM:+0100
TZOFFSETTO:+0200
END:DAYLIGHT
END:VTIMEZONE
END:VCALENDAR
