BEGIN:VCALENDAR
VERSION:2.0
PRODID:-//Plone.org//NONSGML plone.app.event//EN
X-WR-TIMEZONE:Europe/Berlin
BEGIN:VEVENT
SUMMARY: La fitodepurazione delle acque di scarico
DTSTART;TZID=Europe/Berlin;VALUE=DATE-TIME:20160519T090000
DTEND;TZID=Europe/Berlin;VALUE=DATE-TIME:20160519T180000
DTSTAMP;VALUE=DATE-TIME:20260423T061315Z
UID:816b8f71f21545399803b76f07570084@www.isprambiente.gov.it
CREATED;VALUE=DATE-TIME:20160503T105811Z
DESCRIPTION:Tecniche naturali di depurazione (constructed wet lands): tecn
 ologie adeguate per il risanamento ambientale e per un futuro sostenibile
LAST-MODIFIED;VALUE=DATE-TIME:20230120T134022Z
LOCATION:Pescara
URL:https://www.isprambiente.gov.it/it/archivio/notizie-e-novita-normative
 /notizie-ispra/2016/05/la-fitodepurazione-delle-acque-di-scarico
END:VEVENT
BEGIN:VTIMEZONE
TZID:Europe/Berlin
X-LIC-LOCATION:Europe/Berlin
BEGIN:DAYLIGHT
DTSTART;VALUE=DATE-TIME:20160327T030000
TZNAME:CEST
TZOFFSETFROM:+0100
TZOFFSETTO:+0200
END:DAYLIGHT
END:VTIMEZONE
END:VCALENDAR
