BEGIN:VCALENDAR
VERSION:2.0
PRODID:-//Plone.org//NONSGML plone.app.event//EN
X-WR-TIMEZONE:Europe/Berlin
BEGIN:VEVENT
SUMMARY:Le acque dei fiumi veneti 2016
DTSTART;TZID=Europe/Berlin;VALUE=DATE-TIME:20160518T090000
DTEND;TZID=Europe/Berlin;VALUE=DATE-TIME:20160518T160000
DTSTAMP;VALUE=DATE-TIME:20260423T061958Z
UID:f9ee9ce918244440a44acce3b284f580@www.isprambiente.gov.it
CREATED;VALUE=DATE-TIME:20160428T121035Z
DESCRIPTION:Aggiornamenti e riflessioni su gestione\, stato ecologico e ri
 schio alluvioni
LAST-MODIFIED;VALUE=DATE-TIME:20230120T134022Z
LOCATION:Padova
URL:https://www.isprambiente.gov.it/it/archivio/notizie-e-novita-normative
 /notizie-ispra/2016/05/le-acque-dei-fiumi-veneti-2016
END:VEVENT
BEGIN:VTIMEZONE
TZID:Europe/Berlin
X-LIC-LOCATION:Europe/Berlin
BEGIN:DAYLIGHT
DTSTART;VALUE=DATE-TIME:20160327T030000
TZNAME:CEST
TZOFFSETFROM:+0100
TZOFFSETTO:+0200
END:DAYLIGHT
END:VTIMEZONE
END:VCALENDAR
