BEGIN:VCALENDAR
VERSION:2.0
PRODID:-//Plone.org//NONSGML plone.app.event//EN
X-WR-TIMEZONE:Europe/Berlin
BEGIN:VEVENT
SUMMARY:Valorizzazione della costa
DTSTART;TZID=Europe/Berlin;VALUE=DATE-TIME:20160519T143000
DTEND;TZID=Europe/Berlin;VALUE=DATE-TIME:20160519T190000
DTSTAMP;VALUE=DATE-TIME:20260423T021230Z
UID:b2a22bff730145689a32b0edb3dc333f@www.isprambiente.gov.it
CREATED;VALUE=DATE-TIME:20160516T103947Z
LAST-MODIFIED;VALUE=DATE-TIME:20230120T134022Z
LOCATION:Roma
URL:https://www.isprambiente.gov.it/it/archivio/notizie-e-novita-normative
 /notizie-ispra/2016/05/valorizzazione-della-costa
END:VEVENT
BEGIN:VTIMEZONE
TZID:Europe/Berlin
X-LIC-LOCATION:Europe/Berlin
BEGIN:DAYLIGHT
DTSTART;VALUE=DATE-TIME:20160327T030000
TZNAME:CEST
TZOFFSETFROM:+0100
TZOFFSETTO:+0200
END:DAYLIGHT
END:VTIMEZONE
END:VCALENDAR
