BEGIN:VCALENDAR
VERSION:2.0
PRODID:-//Plone.org//NONSGML plone.app.event//EN
X-WR-TIMEZONE:Europe/Berlin
BEGIN:VEVENT
SUMMARY:Cambiamenti climatici\, biodiversità e nuovi scenari ecologici
DTSTART;TZID=Europe/Berlin;VALUE=DATE-TIME:20160609T083000
DTEND;TZID=Europe/Berlin;VALUE=DATE-TIME:20160609T173000
DTSTAMP;VALUE=DATE-TIME:20260423T054442Z
UID:1af08086452c4a989b73763a3ce4653a@www.isprambiente.gov.it
CREATED;VALUE=DATE-TIME:20160523T102709Z
DESCRIPTION:Il contributo della Riserva della Biosfera CollinaPo al Piano 
 di Azione del Programma Man and Biosphere 2015-2025
LAST-MODIFIED;VALUE=DATE-TIME:20230120T134022Z
LOCATION:Moncalieri (TO)
URL:https://www.isprambiente.gov.it/it/archivio/notizie-e-novita-normative
 /notizie-ispra/2016/06/cambiamenti-climatici-biodiversita-e-nuovi-scenari-
 ecologici
END:VEVENT
BEGIN:VTIMEZONE
TZID:Europe/Berlin
X-LIC-LOCATION:Europe/Berlin
BEGIN:DAYLIGHT
DTSTART;VALUE=DATE-TIME:20160327T030000
TZNAME:CEST
TZOFFSETFROM:+0100
TZOFFSETTO:+0200
END:DAYLIGHT
END:VTIMEZONE
END:VCALENDAR
