BEGIN:VCALENDAR
VERSION:2.0
PRODID:-//Plone.org//NONSGML plone.app.event//EN
X-WR-TIMEZONE:Europe/Berlin
BEGIN:VEVENT
SUMMARY:I parchi del XXI secolo
DTSTART;TZID=Europe/Berlin;VALUE=DATE-TIME:20160615T090000
DTEND;TZID=Europe/Berlin;VALUE=DATE-TIME:20160615T163000
DTSTAMP;VALUE=DATE-TIME:20260423T054336Z
UID:1dd32702cb7f4d78bb593ab7f40f3ed9@www.isprambiente.gov.it
CREATED;VALUE=DATE-TIME:20160614T113232Z
LAST-MODIFIED;VALUE=DATE-TIME:20230120T134022Z
LOCATION:Lonate Pozzolo (VA)
URL:https://www.isprambiente.gov.it/it/archivio/notizie-e-novita-normative
 /notizie-ispra/2016/06/i-parchi-del-xxi-secolo
END:VEVENT
BEGIN:VTIMEZONE
TZID:Europe/Berlin
X-LIC-LOCATION:Europe/Berlin
BEGIN:DAYLIGHT
DTSTART;VALUE=DATE-TIME:20160327T030000
TZNAME:CEST
TZOFFSETFROM:+0100
TZOFFSETTO:+0200
END:DAYLIGHT
END:VTIMEZONE
END:VCALENDAR
