BEGIN:VCALENDAR
VERSION:2.0
PRODID:-//Plone.org//NONSGML plone.app.event//EN
X-WR-TIMEZONE:Europe/Berlin
BEGIN:VEVENT
SUMMARY:Presentazione di SOIL MONITOR
DTSTART;TZID=Europe/Berlin;VALUE=DATE-TIME:20160628T150000
DTEND;TZID=Europe/Berlin;VALUE=DATE-TIME:20160628T180000
DTSTAMP;VALUE=DATE-TIME:20260423T054403Z
UID:1295e8f3c52649c297670645980d2fd8@www.isprambiente.gov.it
CREATED;VALUE=DATE-TIME:20160620T132426Z
LAST-MODIFIED;VALUE=DATE-TIME:20230120T134022Z
LOCATION:Roma
URL:https://www.isprambiente.gov.it/it/archivio/notizie-e-novita-normative
 /notizie-ispra/2016/06/presentazione-di-soil-monitor
END:VEVENT
BEGIN:VTIMEZONE
TZID:Europe/Berlin
X-LIC-LOCATION:Europe/Berlin
BEGIN:DAYLIGHT
DTSTART;VALUE=DATE-TIME:20160327T030000
TZNAME:CEST
TZOFFSETFROM:+0100
TZOFFSETTO:+0200
END:DAYLIGHT
END:VTIMEZONE
END:VCALENDAR
