BEGIN:VCALENDAR
VERSION:2.0
PRODID:-//Plone.org//NONSGML plone.app.event//EN
X-WR-TIMEZONE:Europe/Berlin
BEGIN:VEVENT
SUMMARY:Valutazione di Impatto sulla Salute. Linee Guida e strumenti per v
 alutatori e proponenti - t4HIA
DTSTART;TZID=Europe/Berlin;VALUE=DATE-TIME:20160621T103000
DTEND;TZID=Europe/Berlin;VALUE=DATE-TIME:20160621T133000
DTSTAMP;VALUE=DATE-TIME:20260423T054459Z
UID:bca8e51b99ea433f972b0fe7900aa187@www.isprambiente.gov.it
CREATED;VALUE=DATE-TIME:20160614T105103Z
LAST-MODIFIED;VALUE=DATE-TIME:20230120T134022Z
LOCATION:Roma
URL:https://www.isprambiente.gov.it/it/archivio/notizie-e-novita-normative
 /notizie-ispra/2016/06/valutazione-di-impatto-sulla-salute.-linee-guida-e-
 strumenti-per-valutatori-e-proponenti-t4hia
END:VEVENT
BEGIN:VTIMEZONE
TZID:Europe/Berlin
X-LIC-LOCATION:Europe/Berlin
BEGIN:DAYLIGHT
DTSTART;VALUE=DATE-TIME:20160327T030000
TZNAME:CEST
TZOFFSETFROM:+0100
TZOFFSETTO:+0200
END:DAYLIGHT
END:VTIMEZONE
END:VCALENDAR
