BEGIN:VCALENDAR
VERSION:2.0
PRODID:-//Plone.org//NONSGML plone.app.event//EN
X-WR-TIMEZONE:Europe/Berlin
BEGIN:VEVENT
SUMMARY:Verso una Green e Blue Economy:  Lo sviluppo SMART del territorio 
 nell’ambito di turismo\, ambiente\, mobilità\, agricoltura e pesca
DTSTART;TZID=Europe/Berlin;VALUE=DATE-TIME:20160624T093000
DTEND;TZID=Europe/Berlin;VALUE=DATE-TIME:20160624T160000
DTSTAMP;VALUE=DATE-TIME:20260423T004445Z
UID:5840edf897204cf4aceb6c5117893b83@www.isprambiente.gov.it
CREATED;VALUE=DATE-TIME:20160621T124144Z
LAST-MODIFIED;VALUE=DATE-TIME:20230120T134022Z
LOCATION:Chioggia\, Auditorium San Nicolò
URL:https://www.isprambiente.gov.it/it/archivio/notizie-e-novita-normative
 /notizie-ispra/2016/06/verso-una-green-e-blue-economy-lo-sviluppo-smart-de
 l-territorio-nell2019ambito-di-turismo-ambiente-mobilita-agricoltura-e-pes
 ca
END:VEVENT
BEGIN:VTIMEZONE
TZID:Europe/Berlin
X-LIC-LOCATION:Europe/Berlin
BEGIN:DAYLIGHT
DTSTART;VALUE=DATE-TIME:20160327T030000
TZNAME:CEST
TZOFFSETFROM:+0100
TZOFFSETTO:+0200
END:DAYLIGHT
END:VTIMEZONE
END:VCALENDAR
