BEGIN:VCALENDAR
VERSION:2.0
PRODID:-//Plone.org//NONSGML plone.app.event//EN
X-WR-TIMEZONE:Europe/Berlin
BEGIN:VEVENT
SUMMARY:Contrasto all'inquinamento e tutela dell'ambiente marino
DTSTART;TZID=Europe/Berlin;VALUE=DATE-TIME:20160706T150000
DTEND;TZID=Europe/Berlin;VALUE=DATE-TIME:20160706T190000
DTSTAMP;VALUE=DATE-TIME:20260423T062202Z
UID:703221bdc97546af90363a51118eeadf@www.isprambiente.gov.it
CREATED;VALUE=DATE-TIME:20160705T113955Z
DESCRIPTION:IX Seminario antinquinamento
LAST-MODIFIED;VALUE=DATE-TIME:20230120T134022Z
LOCATION:Cagliari
URL:https://www.isprambiente.gov.it/it/archivio/notizie-e-novita-normative
 /notizie-ispra/2016/07/contrasto-allinquinamento-e-tutela-dellambiente-mar
 ino
END:VEVENT
BEGIN:VTIMEZONE
TZID:Europe/Berlin
X-LIC-LOCATION:Europe/Berlin
BEGIN:DAYLIGHT
DTSTART;VALUE=DATE-TIME:20160327T030000
TZNAME:CEST
TZOFFSETFROM:+0100
TZOFFSETTO:+0200
END:DAYLIGHT
END:VTIMEZONE
END:VCALENDAR
