BEGIN:VCALENDAR
VERSION:2.0
PRODID:-//Plone.org//NONSGML plone.app.event//EN
X-WR-TIMEZONE:Europe/Berlin
BEGIN:VEVENT
SUMMARY:Integrazione tra acqua e natura\, esperienze acquisite e nuove pro
 spettive
DTSTART;TZID=Europe/Berlin;VALUE=DATE-TIME:20160706T103000
DTEND;TZID=Europe/Berlin;VALUE=DATE-TIME:20160706T180000
DTSTAMP;VALUE=DATE-TIME:20260423T062136Z
UID:bd65fd80044948ffb29199d56331fb7d@www.isprambiente.gov.it
CREATED;VALUE=DATE-TIME:20160622T105051Z
LAST-MODIFIED;VALUE=DATE-TIME:20230120T134022Z
LOCATION:Roma
URL:https://www.isprambiente.gov.it/it/archivio/notizie-e-novita-normative
 /notizie-ispra/2016/07/integrazione-tra-acqua-e-natura-esperienze-acquisit
 e-e-nuove-prospettive
END:VEVENT
BEGIN:VTIMEZONE
TZID:Europe/Berlin
X-LIC-LOCATION:Europe/Berlin
BEGIN:DAYLIGHT
DTSTART;VALUE=DATE-TIME:20160327T030000
TZNAME:CEST
TZOFFSETFROM:+0100
TZOFFSETTO:+0200
END:DAYLIGHT
END:VTIMEZONE
END:VCALENDAR
