BEGIN:VCALENDAR
VERSION:2.0
PRODID:-//Plone.org//NONSGML plone.app.event//EN
X-WR-TIMEZONE:Europe/Berlin
BEGIN:VEVENT
SUMMARY:La gestione della risorsa idrica in agricoltura
DTSTART;TZID=Europe/Berlin;VALUE=DATE-TIME:20160721T100000
DTEND;TZID=Europe/Berlin;VALUE=DATE-TIME:20160721T130000
DTSTAMP;VALUE=DATE-TIME:20260423T062217Z
UID:ed69d41425a4467c8f99f85369bc89fc@www.isprambiente.gov.it
CREATED;VALUE=DATE-TIME:20160720T103349Z
LAST-MODIFIED;VALUE=DATE-TIME:20230120T134022Z
LOCATION:Bologna
URL:https://www.isprambiente.gov.it/it/archivio/notizie-e-novita-normative
 /notizie-ispra/2016/07/la-gestione-della-risorsa-idrica-in-agricoltura
END:VEVENT
BEGIN:VTIMEZONE
TZID:Europe/Berlin
X-LIC-LOCATION:Europe/Berlin
BEGIN:DAYLIGHT
DTSTART;VALUE=DATE-TIME:20160327T030000
TZNAME:CEST
TZOFFSETFROM:+0100
TZOFFSETTO:+0200
END:DAYLIGHT
END:VTIMEZONE
END:VCALENDAR
