BEGIN:VCALENDAR
VERSION:2.0
PRODID:-//Plone.org//NONSGML plone.app.event//EN
X-WR-TIMEZONE:Europe/Berlin
BEGIN:VEVENT
SUMMARY:Servizi Idrici e green economy: opportunità e difficoltà nella g
 overnance del servizio idrico in Italia
DTSTART;TZID=Europe/Berlin;VALUE=DATE-TIME:20160718T093000
DTEND;TZID=Europe/Berlin;VALUE=DATE-TIME:20160718T130000
DTSTAMP;VALUE=DATE-TIME:20260423T062345Z
UID:c914a3ada140465ea8d8db566be4de87@www.isprambiente.gov.it
CREATED;VALUE=DATE-TIME:20160704T110051Z
LAST-MODIFIED;VALUE=DATE-TIME:20230120T134022Z
LOCATION:Roma
URL:https://www.isprambiente.gov.it/it/archivio/notizie-e-novita-normative
 /notizie-ispra/2016/07/servizi-idrici-e-green-economy-opportunita-e-diffic
 olta-nella-governance-del-servizio-idrico-in-italia
END:VEVENT
BEGIN:VTIMEZONE
TZID:Europe/Berlin
X-LIC-LOCATION:Europe/Berlin
BEGIN:DAYLIGHT
DTSTART;VALUE=DATE-TIME:20160327T030000
TZNAME:CEST
TZOFFSETFROM:+0100
TZOFFSETTO:+0200
END:DAYLIGHT
END:VTIMEZONE
END:VCALENDAR
