BEGIN:VCALENDAR
VERSION:2.0
PRODID:-//Plone.org//NONSGML plone.app.event//EN
X-WR-TIMEZONE:Europe/Berlin
BEGIN:VEVENT
SUMMARY:A Bologna i comunicatori del SNPA insieme alla FIMA
DTSTART;TZID=Europe/Berlin;VALUE=DATE-TIME:20160929T103000
DTEND;TZID=Europe/Berlin;VALUE=DATE-TIME:20160929T160000
DTSTAMP;VALUE=DATE-TIME:20260423T105207Z
UID:a8a17f6746934c8985b11b7b9b43fcd9@www.isprambiente.gov.it
CREATED;VALUE=DATE-TIME:20161003T162126Z
DESCRIPTION:Seminario
LAST-MODIFIED;VALUE=DATE-TIME:20230120T134022Z
LOCATION:Bologna
URL:https://www.isprambiente.gov.it/it/archivio/notizie-e-novita-normative
 /notizie-ispra/2016/09/a-bologna-i-comunicatori-del-snpa-insieme-alla-fima
END:VEVENT
BEGIN:VTIMEZONE
TZID:Europe/Berlin
X-LIC-LOCATION:Europe/Berlin
BEGIN:DAYLIGHT
DTSTART;VALUE=DATE-TIME:20160327T030000
TZNAME:CEST
TZOFFSETFROM:+0100
TZOFFSETTO:+0200
END:DAYLIGHT
END:VTIMEZONE
END:VCALENDAR
