BEGIN:VCALENDAR
VERSION:2.0
PRODID:-//Plone.org//NONSGML plone.app.event//EN
X-WR-TIMEZONE:Europe/Berlin
BEGIN:VEVENT
SUMMARY:Agricoltura biologica: la risposta globale al riscaldamento global
 e 
DTSTART;TZID=Europe/Berlin;VALUE=DATE-TIME:20160912T100000
DTEND;TZID=Europe/Berlin;VALUE=DATE-TIME:20160912T130000
DTSTAMP;VALUE=DATE-TIME:20260423T105209Z
UID:9c16e963a3a54d80b689798bab16fcfe@www.isprambiente.gov.it
CREATED;VALUE=DATE-TIME:20160912T111745Z
LAST-MODIFIED;VALUE=DATE-TIME:20230120T134022Z
LOCATION:Bologna\, Sana
URL:https://www.isprambiente.gov.it/it/archivio/notizie-e-novita-normative
 /notizie-ispra/2016/09/agricoltura-biologica-la-risposta-globale-al-riscal
 damento-globale-1
END:VEVENT
BEGIN:VTIMEZONE
TZID:Europe/Berlin
X-LIC-LOCATION:Europe/Berlin
BEGIN:DAYLIGHT
DTSTART;VALUE=DATE-TIME:20160327T030000
TZNAME:CEST
TZOFFSETFROM:+0100
TZOFFSETTO:+0200
END:DAYLIGHT
END:VTIMEZONE
END:VCALENDAR
