BEGIN:VCALENDAR
VERSION:2.0
PRODID:-//Plone.org//NONSGML plone.app.event//EN
X-WR-TIMEZONE:Europe/Berlin
BEGIN:VEVENT
SUMMARY:Conferenza finale del progetto Balmas
DTSTART;TZID=Europe/Berlin;VALUE=DATE-TIME:20160921T090000
DTEND;TZID=Europe/Berlin;VALUE=DATE-TIME:20160922T170000
DTSTAMP;VALUE=DATE-TIME:20260423T061211Z
UID:c4316dc62a3142a186cdb2100f2a5013@www.isprambiente.gov.it
CREATED;VALUE=DATE-TIME:20160902T114133Z
LAST-MODIFIED;VALUE=DATE-TIME:20230120T134022Z
LOCATION:Piran\, Slovenia
URL:https://www.isprambiente.gov.it/it/archivio/notizie-e-novita-normative
 /notizie-ispra/2016/09/conferenza-finale-del-progetto-balmas
END:VEVENT
BEGIN:VTIMEZONE
TZID:Europe/Berlin
X-LIC-LOCATION:Europe/Berlin
BEGIN:DAYLIGHT
DTSTART;VALUE=DATE-TIME:20160327T030000
TZNAME:CEST
TZOFFSETFROM:+0100
TZOFFSETTO:+0200
END:DAYLIGHT
END:VTIMEZONE
END:VCALENDAR
