BEGIN:VCALENDAR
VERSION:2.0
PRODID:-//Plone.org//NONSGML plone.app.event//EN
X-WR-TIMEZONE:Europe/Berlin
BEGIN:VEVENT
SUMMARY:Esonda 2016
DTSTART;TZID=Europe/Berlin;VALUE=DATE-TIME:20160921T100000
DTEND;TZID=Europe/Berlin;VALUE=DATE-TIME:20160923T173000
DTSTAMP;VALUE=DATE-TIME:20260423T073601Z
UID:956e17fd5b7147e9adb8f97eba624b88@www.isprambiente.gov.it
CREATED;VALUE=DATE-TIME:20160712T113349Z
LAST-MODIFIED;VALUE=DATE-TIME:20230120T134022Z
LOCATION:Quartiere fieristico di Ferrara
URL:https://www.isprambiente.gov.it/it/archivio/notizie-e-novita-normative
 /notizie-ispra/2016/09/esonda-2016
END:VEVENT
BEGIN:VTIMEZONE
TZID:Europe/Berlin
X-LIC-LOCATION:Europe/Berlin
BEGIN:DAYLIGHT
DTSTART;VALUE=DATE-TIME:20160327T030000
TZNAME:CEST
TZOFFSETFROM:+0100
TZOFFSETTO:+0200
END:DAYLIGHT
END:VTIMEZONE
END:VCALENDAR
