BEGIN:VCALENDAR
VERSION:2.0
PRODID:-//Plone.org//NONSGML plone.app.event//EN
X-WR-TIMEZONE:Europe/Berlin
BEGIN:VEVENT
SUMMARY:FAI una legge per il suolo
DTSTART;TZID=Europe/Berlin;VALUE=DATE-TIME:20160920T103000
DTEND;TZID=Europe/Berlin;VALUE=DATE-TIME:20160920T170000
DTSTAMP;VALUE=DATE-TIME:20260423T121133Z
UID:55e6ec42d70c4f799becef33c493813c@www.isprambiente.gov.it
CREATED;VALUE=DATE-TIME:20160906T094414Z
DESCRIPTION:Un incontro tra portatori di interesse\, esperti\, politica e 
 società civile
LAST-MODIFIED;VALUE=DATE-TIME:20230120T134022Z
LOCATION:Milano
URL:https://www.isprambiente.gov.it/it/archivio/notizie-e-novita-normative
 /notizie-ispra/2016/09/fai-una-legge-per-il-suolo
END:VEVENT
BEGIN:VTIMEZONE
TZID:Europe/Berlin
X-LIC-LOCATION:Europe/Berlin
BEGIN:DAYLIGHT
DTSTART;VALUE=DATE-TIME:20160327T030000
TZNAME:CEST
TZOFFSETFROM:+0100
TZOFFSETTO:+0200
END:DAYLIGHT
END:VTIMEZONE
END:VCALENDAR
