BEGIN:VCALENDAR
VERSION:2.0
PRODID:-//Plone.org//NONSGML plone.app.event//EN
X-WR-TIMEZONE:Europe/Berlin
BEGIN:VEVENT
SUMMARY:Festival della Terra
DTSTART;TZID=Europe/Berlin;VALUE=DATE-TIME:20160916T093000
DTEND;TZID=Europe/Berlin;VALUE=DATE-TIME:20160917T200000
DTSTAMP;VALUE=DATE-TIME:20260423T104720Z
UID:eef5dd51b40f463785f51a0ca702989a@www.isprambiente.gov.it
CREATED;VALUE=DATE-TIME:20160906T095334Z
DESCRIPTION:Il valore del territorio tra agricoltura e rigenerazione urban
 a
LAST-MODIFIED;VALUE=DATE-TIME:20230120T134022Z
LOCATION:San Lazzaro di Savena (BO)
URL:https://www.isprambiente.gov.it/it/archivio/notizie-e-novita-normative
 /notizie-ispra/2016/09/festival-della-terra
END:VEVENT
BEGIN:VTIMEZONE
TZID:Europe/Berlin
X-LIC-LOCATION:Europe/Berlin
BEGIN:DAYLIGHT
DTSTART;VALUE=DATE-TIME:20160327T030000
TZNAME:CEST
TZOFFSETFROM:+0100
TZOFFSETTO:+0200
END:DAYLIGHT
END:VTIMEZONE
END:VCALENDAR
