BEGIN:VCALENDAR
VERSION:2.0
PRODID:-//Plone.org//NONSGML plone.app.event//EN
X-WR-TIMEZONE:Europe/Berlin
BEGIN:VEVENT
SUMMARY:Geologia e rischio sismico: i contributi della geologia allo studi
 o del terremoto dell’Italia centrale
DTSTART;TZID=Europe/Berlin;VALUE=DATE-TIME:20160914T150000
DTEND;TZID=Europe/Berlin;VALUE=DATE-TIME:20160914T180000
DTSTAMP;VALUE=DATE-TIME:20260423T105247Z
UID:ca33f0fdc21c499ba9996f2e3d5e4226@www.isprambiente.gov.it
CREATED;VALUE=DATE-TIME:20160913T132800Z
LAST-MODIFIED;VALUE=DATE-TIME:20230120T134022Z
LOCATION:Como
URL:https://www.isprambiente.gov.it/it/archivio/notizie-e-novita-normative
 /notizie-ispra/2016/09/geologia-e-rischio-sismico-i-contributi-della-geolo
 gia-alla-studio-del-terremoto-dell2019italia-centrale
END:VEVENT
BEGIN:VTIMEZONE
TZID:Europe/Berlin
X-LIC-LOCATION:Europe/Berlin
BEGIN:DAYLIGHT
DTSTART;VALUE=DATE-TIME:20160327T030000
TZNAME:CEST
TZOFFSETFROM:+0100
TZOFFSETTO:+0200
END:DAYLIGHT
END:VTIMEZONE
END:VCALENDAR
