BEGIN:VCALENDAR
VERSION:2.0
PRODID:-//Plone.org//NONSGML plone.app.event//EN
X-WR-TIMEZONE:Europe/Berlin
BEGIN:VEVENT
SUMMARY:Giornata dei Mobility Manager
DTSTART;TZID=Europe/Berlin;VALUE=DATE-TIME:20160916T093000
DTEND;TZID=Europe/Berlin;VALUE=DATE-TIME:20160916T170000
DTSTAMP;VALUE=DATE-TIME:20260423T104724Z
UID:e8914b3d79724639b18dc63b421ec8b4@www.isprambiente.gov.it
CREATED;VALUE=DATE-TIME:20160907T095130Z
LAST-MODIFIED;VALUE=DATE-TIME:20230120T134022Z
LOCATION:Roma\, Università degli Studi Roma Tre
URL:https://www.isprambiente.gov.it/it/archivio/notizie-e-novita-normative
 /notizie-ispra/2016/09/giornata-dei-mobility-manager
END:VEVENT
BEGIN:VTIMEZONE
TZID:Europe/Berlin
X-LIC-LOCATION:Europe/Berlin
BEGIN:DAYLIGHT
DTSTART;VALUE=DATE-TIME:20160327T030000
TZNAME:CEST
TZOFFSETFROM:+0100
TZOFFSETTO:+0200
END:DAYLIGHT
END:VTIMEZONE
END:VCALENDAR
