BEGIN:VCALENDAR
VERSION:2.0
PRODID:-//Plone.org//NONSGML plone.app.event//EN
X-WR-TIMEZONE:Europe/Berlin
BEGIN:VEVENT
SUMMARY:Il recepimento della direttiva UE 2013/59 in materia di radioprote
 zione  
DTSTART;TZID=Europe/Berlin;VALUE=DATE-TIME:20160916T090000
DTEND;TZID=Europe/Berlin;VALUE=DATE-TIME:20160916T160000
DTSTAMP;VALUE=DATE-TIME:20260423T104955Z
UID:d7f975ac4f924c19a95f0b47b209b564@www.isprambiente.gov.it
CREATED;VALUE=DATE-TIME:20160812T104802Z
LAST-MODIFIED;VALUE=DATE-TIME:20230120T134022Z
LOCATION:Roma
URL:https://www.isprambiente.gov.it/it/archivio/notizie-e-novita-normative
 /notizie-ispra/2016/09/giornata-di-studio-gratuita-sulla-direttiva-ue-2013
 -59
END:VEVENT
BEGIN:VTIMEZONE
TZID:Europe/Berlin
X-LIC-LOCATION:Europe/Berlin
BEGIN:DAYLIGHT
DTSTART;VALUE=DATE-TIME:20160327T030000
TZNAME:CEST
TZOFFSETFROM:+0100
TZOFFSETTO:+0200
END:DAYLIGHT
END:VTIMEZONE
END:VCALENDAR
