BEGIN:VCALENDAR
VERSION:2.0
PRODID:-//Plone.org//NONSGML plone.app.event//EN
X-WR-TIMEZONE:Europe/Berlin
BEGIN:VEVENT
SUMMARY:La casa della scienza – la scienza in casa
DTSTART;TZID=Europe/Berlin;VALUE=DATE-TIME:20160924T160000
DTEND;TZID=Europe/Berlin;VALUE=DATE-TIME:20160924T183000
DTSTAMP;VALUE=DATE-TIME:20260423T121950Z
UID:ce6db79c04364a2eadb28a65358d951b@www.isprambiente.gov.it
CREATED;VALUE=DATE-TIME:20160921T142302Z
LAST-MODIFIED;VALUE=DATE-TIME:20230120T134022Z
LOCATION:Roma
URL:https://www.isprambiente.gov.it/it/archivio/notizie-e-novita-normative
 /notizie-ispra/2016/09/la-casa-della-scienza-2013-la-scienza-in-casa
END:VEVENT
BEGIN:VTIMEZONE
TZID:Europe/Berlin
X-LIC-LOCATION:Europe/Berlin
BEGIN:DAYLIGHT
DTSTART;VALUE=DATE-TIME:20160327T030000
TZNAME:CEST
TZOFFSETFROM:+0100
TZOFFSETTO:+0200
END:DAYLIGHT
END:VTIMEZONE
END:VCALENDAR
