BEGIN:VCALENDAR
VERSION:2.0
PRODID:-//Plone.org//NONSGML plone.app.event//EN
X-WR-TIMEZONE:Europe/Berlin
BEGIN:VEVENT
SUMMARY:Torna a settembre la Notte Europea dei Ricercatori. Anche ISPRA tr
 a gli enti aderenti all'iniziativa
DTSTART;TZID=Europe/Berlin;VALUE=DATE-TIME:20160924T150000
DTEND;TZID=Europe/Berlin;VALUE=DATE-TIME:20160930T010000
DTSTAMP;VALUE=DATE-TIME:20260423T104826Z
UID:fd2c64fe66104c36bdfdf01aaa759a3a@www.isprambiente.gov.it
CREATED;VALUE=DATE-TIME:20160707T141146Z
LAST-MODIFIED;VALUE=DATE-TIME:20230120T134022Z
LOCATION:Su territorio nazionale
URL:https://www.isprambiente.gov.it/it/archivio/notizie-e-novita-normative
 /notizie-ispra/2016/09/notte-europea-dei-ricercatori-2016
END:VEVENT
BEGIN:VTIMEZONE
TZID:Europe/Berlin
X-LIC-LOCATION:Europe/Berlin
BEGIN:DAYLIGHT
DTSTART;VALUE=DATE-TIME:20160327T030000
TZNAME:CEST
TZOFFSETFROM:+0100
TZOFFSETTO:+0200
END:DAYLIGHT
END:VTIMEZONE
END:VCALENDAR
