BEGIN:VCALENDAR
VERSION:2.0
PRODID:-//Plone.org//NONSGML plone.app.event//EN
X-WR-TIMEZONE:Europe/Berlin
BEGIN:VEVENT
SUMMARY:Giornate del CUIA in Italia
DTSTART;TZID=Europe/Berlin;VALUE=DATE-TIME:20161013T150000
DTEND;TZID=Europe/Berlin;VALUE=DATE-TIME:20161014T150000
DTSTAMP;VALUE=DATE-TIME:20260423T105011Z
UID:09f59c51b8b1442b96de324294503cdb@www.isprambiente.gov.it
CREATED;VALUE=DATE-TIME:20161003T140816Z
LAST-MODIFIED;VALUE=DATE-TIME:20230120T134033Z
LOCATION:Camerino
URL:https://www.isprambiente.gov.it/it/archivio/notizie-e-novita-normative
 /notizie-ispra/2016/10/giornate-del-cuia-in-italia
END:VEVENT
BEGIN:VTIMEZONE
TZID:Europe/Berlin
X-LIC-LOCATION:Europe/Berlin
BEGIN:DAYLIGHT
DTSTART;VALUE=DATE-TIME:20160327T030000
TZNAME:CEST
TZOFFSETFROM:+0100
TZOFFSETTO:+0200
END:DAYLIGHT
END:VTIMEZONE
END:VCALENDAR
