BEGIN:VCALENDAR
VERSION:2.0
PRODID:-//Plone.org//NONSGML plone.app.event//EN
X-WR-TIMEZONE:Europe/Berlin
BEGIN:VEVENT
SUMMARY:La Terra si rinnova...il gusto anche
DTSTART;TZID=Europe/Berlin;VALUE=DATE-TIME:20161010T000000
DTEND;TZID=Europe/Berlin;VALUE=DATE-TIME:20161010T000000
DTSTAMP;VALUE=DATE-TIME:20260420T124232Z
UID:1c7481f2f1e44eb5b313b07d02f999dd@www.isprambiente.gov.it
CREATED;VALUE=DATE-TIME:20161005T141302Z
LAST-MODIFIED;VALUE=DATE-TIME:20230120T134022Z
LOCATION:Castel Giuliano\, Bracciano
URL:https://www.isprambiente.gov.it/it/archivio/notizie-e-novita-normative
 /notizie-ispra/2016/10/la-terra-si-rinnova...il-gusto-anche
END:VEVENT
BEGIN:VTIMEZONE
TZID:Europe/Berlin
X-LIC-LOCATION:Europe/Berlin
BEGIN:DAYLIGHT
DTSTART;VALUE=DATE-TIME:20160327T030000
TZNAME:CEST
TZOFFSETFROM:+0100
TZOFFSETTO:+0200
END:DAYLIGHT
END:VTIMEZONE
END:VCALENDAR
