BEGIN:VCALENDAR
VERSION:2.0
PRODID:-//Plone.org//NONSGML plone.app.event//EN
X-WR-TIMEZONE:Europe/Berlin
BEGIN:VEVENT
SUMMARY:Presentazione del Progetto AMBER
DTSTART;TZID=Europe/Berlin;VALUE=DATE-TIME:20161130T100000
DTEND;TZID=Europe/Berlin;VALUE=DATE-TIME:20161130T160000
DTSTAMP;VALUE=DATE-TIME:20260423T062018Z
UID:e3f6a05a017f4a60b7dc4f0174dea4ff@www.isprambiente.gov.it
CREATED;VALUE=DATE-TIME:20161109T131526Z
LAST-MODIFIED;VALUE=DATE-TIME:20230120T134033Z
LOCATION:Milano
URL:https://www.isprambiente.gov.it/it/archivio/notizie-e-novita-normative
 /notizie-ispra/2016/11/presentazione-del-progetto-amber
END:VEVENT
BEGIN:VTIMEZONE
TZID:Europe/Berlin
X-LIC-LOCATION:Europe/Berlin
BEGIN:STANDARD
DTSTART;VALUE=DATE-TIME:20161030T020000
TZNAME:CET
TZOFFSETFROM:+0200
TZOFFSETTO:+0100
END:STANDARD
END:VTIMEZONE
END:VCALENDAR
